BEGIN:VCALENDAR
VERSION:2.0
PRODID:-//OmniMagnetCalendar//EN
BEGIN:VEVENT
DTSTAMP:20190625T195740Z
STATUS:CONFIRMED
UID:hcnaples.clubs.harvard.edu203
DTSTART:20151117T093000Z
DTEND:20151117T120000Z
LOCATION:Club Pelican Bay, 707 Gulf  Park Drive, Naples, fl, 34108,
SUMMARY:Donald F. Hastings, MBA ‘53: “Behind the Mask: Embrace Risk and Dare to Be Better”
DESCRIPTION:Online RSVPs now open!
BEGIN:VALARM
TRIGGER:-PT15M
ACTION:DISPLAY
END:VALARM
TRANSP:OPAQUE
END:VEVENT
END:VCALENDAR
