BEGIN:VCALENDAR
VERSION:2.0
PRODID:-//OmniMagnetCalendar//EN
BEGIN:VEVENT
DTSTAMP:20190625T195740Z
STATUS:CONFIRMED
UID:hcnaples.clubs.harvard.edu204
DTSTART:20151121T113000Z
DTEND:20151121T143000Z
LOCATION:Auditorium at Moorings Park, 120 Moorings Park Drive, Naples, FL, 34105,
SUMMARY:Harvard/Yale Football Game & Tailgate Party
DESCRIPTION:Online RSVPs now open!
BEGIN:VALARM
TRIGGER:-PT15M
ACTION:DISPLAY
END:VALARM
TRANSP:OPAQUE
END:VEVENT
END:VCALENDAR
